BEGIN:VCALENDAR
VERSION:2.0
CALSCALE:GREGORIAN
PRODID:-//Diputació de Barcelona//DibaCMS//EN
BEGIN:VEVENT
UID:13583
DTSTAMP:20260424T004415
DTSTART:20210515T000000
DTEND:20211030T000000
SUMMARY:Exposició: "La memòria dels oficis"
LOCATION:Carrer Pi i Margall, 13 08755 Castellbisbal
METHOD:PUBLISH
X-WR-CALNAME:comunicacio@castellbisbal.cat
X-WR-TIMEZONE:Europe/Madrid
DESCRIPTION:Al Museu de la Pagesia, en l'horari d'obertura habitual.

URI:https://www.castellbisbal.cat/actualitat/agenda/exposicio-la-memoria-dels-oficis.html
CLASS:PUBLIC
END:VEVENT
END:VCALENDAR
