BEGIN:VCALENDAR
VERSION:2.0
CALSCALE:GREGORIAN
PRODID:-//Diputació de Barcelona//DibaCMS//EN
BEGIN:VEVENT
UID:13761
DTSTAMP:20260423T101126
DTSTART:20220710T100000
DTEND:20220710T150000
SUMMARY:Mulla't
LOCATION:C. dels Esports 08755 Castellbisbal
METHOD:PUBLISH
X-WR-CALNAME:comunicacio@castellbisbal.cat
X-WR-TIMEZONE:Europe/Madrid
DESCRIPTION:De 10.00 a 15.00 hores, a la piscina d'estiu de l'Illa Esportiva

URI:https://www.castellbisbal.cat/actualitat/agenda/13761-mullat.html
CLASS:PUBLIC
END:VEVENT
END:VCALENDAR
