BEGIN:VCALENDAR
VERSION:2.0
CALSCALE:GREGORIAN
PRODID:-//Diputació de Barcelona//DibaCMS//EN
BEGIN:VEVENT
UID:14326
DTSTAMP:20260423T161352
DTSTART:20230103T103000
DTEND:20230104T203000
SUMMARY:Campament Reial 
LOCATION:08755 Castellbisbal
METHOD:PUBLISH
X-WR-CALNAME:comunicacio@castellbisbal.cat
X-WR-TIMEZONE:Europe/Madrid
DESCRIPTION:En horari de matí i tarda, als Jardins de Can Margarit

URI:https://www.castellbisbal.cat/actualitat/agenda/campament-reial-.html
CLASS:PUBLIC
END:VEVENT
END:VCALENDAR
