BEGIN:VCALENDAR
VERSION:2.0
CALSCALE:GREGORIAN
PRODID:-//Diputació de Barcelona//DibaCMS//EN
BEGIN:VEVENT
UID:14428
DTSTAMP:20260424T130354
DTSTART:20220615T183000
DTEND:20220615T193000
SUMMARY:Estudia a l'estranger
LOCATION:Carrer Francesc Macià, 64 08755 Castellbisbal
METHOD:PUBLISH
X-WR-CALNAME:comunicacio@castellbisbal.cat
X-WR-TIMEZONE:Europe/Madrid
DESCRIPTION:A les 18.30 hores, al Punt d'Informació Juvenil

URI:https://www.castellbisbal.cat/actualitat/agenda/estudia-a-lestranger.html
CLASS:PUBLIC
END:VEVENT
END:VCALENDAR
