BEGIN:VCALENDAR
VERSION:2.0
CALSCALE:GREGORIAN
PRODID:-//Diputació de Barcelona//DibaCMS//EN
BEGIN:VEVENT
UID:14440
DTSTAMP:20260424T160933
DTSTART:20220617T170000
DTEND:20220617T193000
SUMMARY:Fem una bossa d'origami
LOCATION:Avinguda de Pau Casals, 9 08755 Castellbisbal
METHOD:PUBLISH
X-WR-CALNAME:comunicacio@castellbisbal.cat
X-WR-TIMEZONE:Europe/Madrid
DESCRIPTION:De 17.00 a 19.30 hores, a la sala de plens

URI:https://www.castellbisbal.cat/actualitat/agenda/fem-una-bossa-dorigami.html
CLASS:PUBLIC
END:VEVENT
END:VCALENDAR
