BEGIN:VCALENDAR
VERSION:2.0
CALSCALE:GREGORIAN
PRODID:-//Diputació de Barcelona//DibaCMS//EN
BEGIN:VEVENT
UID:14442
DTSTAMP:20260423T084110
DTSTART:20220923T170000
DTEND:20220923T170000
SUMMARY:Electrodomèstics a la llar
LOCATION:Punt Verd (Pl. Lluís Companys, 2) 
METHOD:PUBLISH
X-WR-CALNAME:comunicacio@castellbisbal.cat
X-WR-TIMEZONE:Europe/Madrid
DESCRIPTION:De 17.00 a 19.30 h, al Punt Verd

URI:https://www.castellbisbal.cat/actualitat/agenda/electrodomestics-a-la-llar.html
CLASS:PUBLIC
END:VEVENT
END:VCALENDAR
