BEGIN:VCALENDAR
VERSION:2.0
CALSCALE:GREGORIAN
PRODID:-//Diputació de Barcelona//DibaCMS//EN
BEGIN:VEVENT
UID:14452
DTSTAMP:20260424T202930
DTSTART:20220514T100000
DTEND:20220514T130000
SUMMARY:Manteniment i reparació de bicicletes
LOCATION:Pl. Lluís Companys, 2 08755 Castellbisbal
METHOD:PUBLISH
X-WR-CALNAME:comunicacio@castellbisbal.cat
X-WR-TIMEZONE:Europe/Madrid
DESCRIPTION:De 10.00 a 13.00 hores, al Punt Verd

URI:https://www.castellbisbal.cat/actualitat/agenda/manteniment-i-reparacio-de-bicicletes.html
CLASS:PUBLIC
END:VEVENT
END:VCALENDAR
