BEGIN:VCALENDAR
VERSION:2.0
CALSCALE:GREGORIAN
PRODID:-//Diputació de Barcelona//DibaCMS//EN
BEGIN:VEVENT
UID:14454
DTSTAMP:20260424T050507
DTSTART:20220611T100000
DTEND:20220611T130000
SUMMARY:Reparació d'aparells i bricolatge
LOCATION:Pl. Lluís Companys, 2 08755 Castellbisbal
METHOD:PUBLISH
X-WR-CALNAME:comunicacio@castellbisbal.cat
X-WR-TIMEZONE:Europe/Madrid
DESCRIPTION:De 10.00 a 13.00 hores, al Punt Verd

URI:https://www.castellbisbal.cat/actualitat/agenda/14454-reparacio-daparells-i-bricolatge.html
CLASS:PUBLIC
END:VEVENT
END:VCALENDAR
