BEGIN:VCALENDAR
VERSION:2.0
CALSCALE:GREGORIAN
PRODID:-//Diputació de Barcelona//DibaCMS//EN
BEGIN:VEVENT
UID:14455
DTSTAMP:20260423T190415
DTSTART:20220625T100000
DTEND:20220625T130000
SUMMARY:Petits arranjaments de roba
LOCATION:Punt Verd (Pl. Lluís Companys, 2) 
METHOD:PUBLISH
X-WR-CALNAME:comunicacio@castellbisbal.cat
X-WR-TIMEZONE:Europe/Madrid
DESCRIPTION:De 10.00 a 13.00 hores, al Punt Verd

URI:https://www.castellbisbal.cat/actualitat/agenda/14455-petits-arranjaments-de-roba.html
CLASS:PUBLIC
END:VEVENT
END:VCALENDAR
