BEGIN:VCALENDAR
VERSION:2.0
CALSCALE:GREGORIAN
PRODID:-//Diputació de Barcelona//DibaCMS//EN
BEGIN:VEVENT
UID:14528
DTSTAMP:20260423T151648
DTSTART:20220513T200000
DTEND:20220513T210000
SUMMARY:Teatre: Birnam
LOCATION:Av. de Pau Casals, 16 08755 Castellbisbal
METHOD:PUBLISH
X-WR-CALNAME:comunicacio@castellbisbal.cat
X-WR-TIMEZONE:Europe/Madrid
DESCRIPTION:A les 20.00 hores, a l'auditori d'Els Costals

URI:https://www.castellbisbal.cat/actualitat/agenda/teatre-birnam.html
CLASS:PUBLIC
END:VEVENT
END:VCALENDAR
