BEGIN:VCALENDAR
VERSION:2.0
CALSCALE:GREGORIAN
PRODID:-//Diputació de Barcelona//DibaCMS//EN
BEGIN:VEVENT
UID:14587
DTSTAMP:20260424T203039
DTSTART:20220508T120000
DTEND:20220508T120000
SUMMARY:Jugatecambiental: Dia de les papallones
LOCATION:Parc de l'Ermita 08755 Castellbisbal
METHOD:PUBLISH
X-WR-CALNAME:comunicacio@castellbisbal.cat
X-WR-TIMEZONE:Europe/Madrid
DESCRIPTION:A la zona verda que hi ha just a sota del parc de l'Ermita

URI:https://www.castellbisbal.cat/actualitat/agenda/jugatecambiental-dia-de-les-papallones.html
CLASS:PUBLIC
END:VEVENT
END:VCALENDAR
