BEGIN:VCALENDAR
VERSION:2.0
CALSCALE:GREGORIAN
PRODID:-//Diputació de Barcelona//DibaCMS//EN
BEGIN:VEVENT
UID:14589
DTSTAMP:20260424T105119
DTSTART:20220522T120000
DTEND:20220522T130000
SUMMARY:Jugatecambiental: "Bioblitz metropolità"
LOCATION:Parc de l'Ermita 08755 Castellbisbal
METHOD:PUBLISH
X-WR-CALNAME:comunicacio@castellbisbal.cat
X-WR-TIMEZONE:Europe/Madrid
DESCRIPTION:A les 12.00 hores, a la zona verda que hi ha just a sota del parc de l'Ermita

URI:https://www.castellbisbal.cat/actualitat/agenda/14589-jugatecambiental-bioblitz-metropolita.html
CLASS:PUBLIC
END:VEVENT
END:VCALENDAR
