BEGIN:VCALENDAR
VERSION:2.0
CALSCALE:GREGORIAN
PRODID:-//Diputació de Barcelona//DibaCMS//EN
BEGIN:VEVENT
UID:14605
DTSTAMP:20260424T130748
DTSTART:20220430T180000
DTEND:20220430T190000
SUMMARY:Concert: L’Havana i Andalusia 
LOCATION:
METHOD:PUBLISH
X-WR-CALNAME:comunicacio@castellbisbal.cat
X-WR-TIMEZONE:Europe/Madrid
DESCRIPTION:A les 18.00 hores, a l'auditori d'Els Costals

URI:https://www.castellbisbal.cat/actualitat/agenda/concert-lhavana-i-andalusia.html
CLASS:PUBLIC
END:VEVENT
END:VCALENDAR
