BEGIN:VCALENDAR
VERSION:2.0
CALSCALE:GREGORIAN
PRODID:-//Diputació de Barcelona//DibaCMS//EN
BEGIN:VEVENT
UID:14626
DTSTAMP:20260423T004620
DTSTART:20220301T000000
DTEND:20220430T000000
SUMMARY:Exposició: "Dones castellbisbalenques"
LOCATION:Carrer Sant Joan, 1 08755 Castellbisbal
METHOD:PUBLISH
X-WR-CALNAME:comunicacio@castellbisbal.cat
X-WR-TIMEZONE:Europe/Madrid
DESCRIPTION:Fins al 30 d'abril, a l'Espai de la Plaça

URI:https://www.castellbisbal.cat/actualitat/agenda/14626-exposicio-dones-castellbisbalenques.html
CLASS:PUBLIC
END:VEVENT
END:VCALENDAR
