BEGIN:VCALENDAR
VERSION:2.0
CALSCALE:GREGORIAN
PRODID:-//Diputació de Barcelona//DibaCMS//EN
BEGIN:VEVENT
UID:14650
DTSTAMP:20260423T122605
DTSTART:20220314T000000
DTEND:20220314T000000
SUMMARY:Tast d'instrument
LOCATION:Plaça de l'Esglèsia, 2 08755 Castellbisbal
METHOD:PUBLISH
X-WR-CALNAME:comunicacio@castellbisbal.cat
X-WR-TIMEZONE:Europe/Madrid
DESCRIPTION:Del 14 de març al 12 de maig, a l'Escola de Música

URI:https://www.castellbisbal.cat/actualitat/agenda/tast-dinstrument.html
CLASS:PUBLIC
END:VEVENT
END:VCALENDAR
