BEGIN:VCALENDAR
VERSION:2.0
CALSCALE:GREGORIAN
PRODID:-//Diputació de Barcelona//DibaCMS//EN
BEGIN:VEVENT
UID:14667
DTSTAMP:20260423T172021
DTSTART:20220512T190000
DTEND:20220512T200000
SUMMARY:Conferència: "La fortuna de la vida"
LOCATION:
METHOD:PUBLISH
X-WR-CALNAME:comunicacio@castellbisbal.cat
X-WR-TIMEZONE:Europe/Madrid
DESCRIPTION:A les 19.00 hores, a l'Espai Foier d'Els Costals

URI:https://www.castellbisbal.cat/actualitat/agenda/conferencia-la-fortuna-de-la-vida.html
CLASS:PUBLIC
END:VEVENT
END:VCALENDAR
