BEGIN:VCALENDAR
VERSION:2.0
CALSCALE:GREGORIAN
PRODID:-//Diputació de Barcelona//DibaCMS//EN
BEGIN:VEVENT
UID:14668
DTSTAMP:20260423T041146
DTSTART:20220519T190000
DTEND:20220519T190000
SUMMARY:Conferència: "El museu, un espai d'experiències i diàleg per a la salut i el benestar"
LOCATION:Av. de Pau Casals, 16 08755 Castellbisbal
METHOD:PUBLISH
X-WR-CALNAME:comunicacio@castellbisbal.cat
X-WR-TIMEZONE:Europe/Madrid
DESCRIPTION:A les 19.00 hores, a l'Espai Foier d'Els Costals

URI:https://www.castellbisbal.cat/actualitat/agenda/conferencia-el-museu-un-espai-dexperiencies-i-dialeg-per-a-la-salut-i-el-benestar.html
CLASS:PUBLIC
END:VEVENT
END:VCALENDAR
