BEGIN:VCALENDAR
VERSION:2.0
CALSCALE:GREGORIAN
PRODID:-//Diputació de Barcelona//DibaCMS//EN
BEGIN:VEVENT
UID:14669
DTSTAMP:20260423T084824
DTSTART:20220602T190000
DTEND:20220602T200000
SUMMARY:Conferència: "La influència de la llengua i la cultura catalana en la maltesa"
LOCATION:
METHOD:PUBLISH
X-WR-CALNAME:comunicacio@castellbisbal.cat
X-WR-TIMEZONE:Europe/Madrid
DESCRIPTION:A les 19.00 hores, a l'Espai Foier d'Els Costals

URI:https://www.castellbisbal.cat/actualitat/agenda/conferencia-la-influencia-de-la-llengua-i-la-cultura-catalana-en-la-maltesa.html
CLASS:PUBLIC
END:VEVENT
END:VCALENDAR
