BEGIN:VCALENDAR
VERSION:2.0
CALSCALE:GREGORIAN
PRODID:-//Diputació de Barcelona//DibaCMS//EN
BEGIN:VEVENT
UID:14685
DTSTAMP:20260423T003713
DTSTART:20220616T190000
DTEND:20220616T200000
SUMMARY:Conferència: "Quo Vadis Europa?"
LOCATION:
METHOD:PUBLISH
X-WR-CALNAME:comunicacio@castellbisbal.cat
X-WR-TIMEZONE:Europe/Madrid
DESCRIPTION:A les 19.00 hores, a l'Espai Foier d'Els Costals

URI:https://www.castellbisbal.cat/actualitat/agenda/conferencia-quo-vadis-europa.html
CLASS:PUBLIC
END:VEVENT
END:VCALENDAR
