BEGIN:VCALENDAR
VERSION:2.0
CALSCALE:GREGORIAN
PRODID:-//Diputació de Barcelona//DibaCMS//EN
BEGIN:VEVENT
UID:14719
DTSTAMP:20260424T092156
DTSTART:20220428T183000
DTEND:20220428T193000
SUMMARY:Taller de papiroflèxia
LOCATION:Carrer Francesc Macià, 64 08755 Castellbisbal
METHOD:PUBLISH
X-WR-CALNAME:comunicacio@castellbisbal.cat
X-WR-TIMEZONE:Europe/Madrid
DESCRIPTION:A les 18.30 hores, al Punt d'Informació Juvenil

URI:https://www.castellbisbal.cat/actualitat/agenda/taller-de-papiroflexia.html
CLASS:PUBLIC
END:VEVENT
END:VCALENDAR
