BEGIN:VCALENDAR
VERSION:2.0
CALSCALE:GREGORIAN
PRODID:-//Diputació de Barcelona//DibaCMS//EN
BEGIN:VEVENT
UID:14720
DTSTAMP:20260424T194144
DTSTART:20220428T173000
DTEND:20220428T193000
SUMMARY:Portes obertes a La Caseta
LOCATION:C. Bellavista 47-49 08755 Castellbisbal
METHOD:PUBLISH
X-WR-CALNAME:comunicacio@castellbisbal.cat
X-WR-TIMEZONE:Europe/Madrid
DESCRIPTION:A partir de les 17.30 hores, a La Caseta

URI:https://www.castellbisbal.cat/actualitat/agenda/14720-portes-obertes-a-la-caseta.html
CLASS:PUBLIC
END:VEVENT
END:VCALENDAR
