BEGIN:VCALENDAR
VERSION:2.0
CALSCALE:GREGORIAN
PRODID:-//Diputació de Barcelona//DibaCMS//EN
BEGIN:VEVENT
UID:14737
DTSTAMP:20260423T070154
DTSTART:20220610T000000
DTEND:20220612T000000
SUMMARY:V Ruta de la Tapa
LOCATION:
METHOD:PUBLISH
X-WR-CALNAME:comunicacio@castellbisbal.cat
X-WR-TIMEZONE:Europe/Madrid
DESCRIPTION:De divendres a diumenge, als establiments de restauració locals

URI:https://www.castellbisbal.cat/actualitat/agenda/v-ruta-de-la-tapa.html
CLASS:PUBLIC
END:VEVENT
END:VCALENDAR
