BEGIN:VCALENDAR
VERSION:2.0
CALSCALE:GREGORIAN
PRODID:-//Diputació de Barcelona//DibaCMS//EN
BEGIN:VEVENT
UID:14741
DTSTAMP:20260423T174442
DTSTART:20220426T173000
DTEND:20220426T183000
SUMMARY:Xerrada: "Com acompanyar els nostres fills i filles en el camí de l'adolescència"
LOCATION:C. Major, 109 08755 Castellbisbal
METHOD:PUBLISH
X-WR-CALNAME:comunicacio@castellbisbal.cat
X-WR-TIMEZONE:Europe/Madrid
DESCRIPTION:A les 17.30 hores, a l'Institut-Escola Les Vinyes

URI:https://www.castellbisbal.cat/actualitat/agenda/xerrada-com-acompanyar-els-nostres-fills-i-filles-en-el-cami-de-ladolescencia.html
CLASS:PUBLIC
END:VEVENT
END:VCALENDAR
