BEGIN:VCALENDAR
VERSION:2.0
CALSCALE:GREGORIAN
PRODID:-//Diputació de Barcelona//DibaCMS//EN
BEGIN:VEVENT
UID:14759
DTSTAMP:20260424T110546
DTSTART:20220429T183000
DTEND:20220429T193000
SUMMARY:"EGO", espectacle de dansa contemporània
LOCATION:
METHOD:PUBLISH
X-WR-CALNAME:comunicacio@castellbisbal.cat
X-WR-TIMEZONE:Europe/Madrid
DESCRIPTION:A les 18.30 hores, a les grades d'Els Costals

URI:https://www.castellbisbal.cat/actualitat/agenda/ego-espectacle-de-dansa-contemporania.html
CLASS:PUBLIC
END:VEVENT
END:VCALENDAR
