BEGIN:VCALENDAR
VERSION:2.0
CALSCALE:GREGORIAN
PRODID:-//Diputació de Barcelona//DibaCMS//EN
BEGIN:VEVENT
UID:14763
DTSTAMP:20260424T202955
DTSTART:20220428T190000
DTEND:20220428T190000
SUMMARY:Acte informatiu: Passem Comptes
LOCATION:
METHOD:PUBLISH
X-WR-CALNAME:comunicacio@castellbisbal.cat
X-WR-TIMEZONE:Europe/Madrid
DESCRIPTION:A les 19.00 hores, a l'Espai Foier d'Els Costals

URI:https://www.castellbisbal.cat/actualitat/agenda/acte-informatiu-passem-comptes.html
CLASS:PUBLIC
END:VEVENT
END:VCALENDAR
