BEGIN:VCALENDAR
VERSION:2.0
CALSCALE:GREGORIAN
PRODID:-//Diputació de Barcelona//DibaCMS//EN
BEGIN:VEVENT
UID:14773
DTSTAMP:20260424T174530
DTSTART:20230505T000000
DTEND:20230512T235900
SUMMARY:Inscripcions Juliol Màgic (en línia)
LOCATION:
METHOD:PUBLISH
X-WR-CALNAME:comunicacio@castellbisbal.cat
X-WR-TIMEZONE:Europe/Madrid
DESCRIPTION:Els dies 5, 8, 11 i 12 de maig

URI:https://www.castellbisbal.cat/actualitat/agenda/inscripcions-juliol-magic-en-linia.html
CLASS:PUBLIC
END:VEVENT
END:VCALENDAR
