BEGIN:VCALENDAR
VERSION:2.0
CALSCALE:GREGORIAN
PRODID:-//Diputació de Barcelona//DibaCMS//EN
BEGIN:VEVENT
UID:14774
DTSTAMP:20260424T000224
DTSTART:20230509T100000
DTEND:20230509T100000
SUMMARY:Inscripcions Juliol Màgic (presencials)
LOCATION:Av. de Pau Casals, 16 08755 Castellbisbal
METHOD:PUBLISH
X-WR-CALNAME:comunicacio@castellbisbal.cat
X-WR-TIMEZONE:Europe/Madrid
DESCRIPTION:De 8.00 a 13.30 h i de 16.30 a 19.30 hores, a l'espai Margarida Xirgu d'Els Costals

URI:https://www.castellbisbal.cat/actualitat/agenda/inscripcions-juliol-magic-presencials.html
CLASS:PUBLIC
END:VEVENT
END:VCALENDAR
