BEGIN:VCALENDAR
VERSION:2.0
CALSCALE:GREGORIAN
PRODID:-//Diputació de Barcelona//DibaCMS//EN
BEGIN:VEVENT
UID:14794
DTSTAMP:20260423T155015
DTSTART:20220430T190000
DTEND:20220430T190000
SUMMARY:Trencament del dejuni del mes de Ramadà
LOCATION:08755 Castellbisbal
METHOD:PUBLISH
X-WR-CALNAME:comunicacio@castellbisbal.cat
X-WR-TIMEZONE:Europe/Madrid
DESCRIPTION:A les 19.00 hores, a la Plaça de l'Església

URI:https://www.castellbisbal.cat/actualitat/agenda/trencament-del-dejuni-del-mes-de-ramada.html
CLASS:PUBLIC
END:VEVENT
END:VCALENDAR
