BEGIN:VCALENDAR
VERSION:2.0
CALSCALE:GREGORIAN
PRODID:-//Diputació de Barcelona//DibaCMS//EN
BEGIN:VEVENT
UID:14797
DTSTAMP:20260423T102358
DTSTART:20220530T000000
DTEND:20220605T235900
SUMMARY:Inscripcions al Diversport (en línia)
LOCATION:
METHOD:PUBLISH
X-WR-CALNAME:comunicacio@castellbisbal.cat
X-WR-TIMEZONE:Europe/Madrid
DESCRIPTION:En línia, a través del web de l'Illa Esportiva

URI:https://www.castellbisbal.cat/actualitat/agenda/inscripcions-al-diversport-en-linia.html
CLASS:PUBLIC
END:VEVENT
END:VCALENDAR
