BEGIN:VCALENDAR
VERSION:2.0
CALSCALE:GREGORIAN
PRODID:-//Diputació de Barcelona//DibaCMS//EN
BEGIN:VEVENT
UID:14804
DTSTAMP:20260424T181436
DTSTART:20220504T173000
DTEND:20220603T200000
SUMMARY:Exposició de l'obra d'Antònia Miñano Coll
LOCATION:Sant Joan núm. 1 08755 Castellbisbal
METHOD:PUBLISH
X-WR-CALNAME:comunicacio@castellbisbal.cat
X-WR-TIMEZONE:Europe/Madrid
DESCRIPTION:A l'Espai de la Plaça, en l'horari d'obertura habitual

URI:https://www.castellbisbal.cat/actualitat/agenda/exposicio-de-lobra-dantonia-minano-coll.html
CLASS:PUBLIC
END:VEVENT
END:VCALENDAR
