BEGIN:VCALENDAR
VERSION:2.0
CALSCALE:GREGORIAN
PRODID:-//Diputació de Barcelona//DibaCMS//EN
BEGIN:VEVENT
UID:14808
DTSTAMP:20260423T133140
DTSTART:20220505T180000
DTEND:20220505T180000
SUMMARY:Tarda saludable
LOCATION:Carrer Francesc Macià, 64 08755 Castellbisbal
METHOD:PUBLISH
X-WR-CALNAME:comunicacio@castellbisbal.cat
X-WR-TIMEZONE:Europe/Madrid
DESCRIPTION:A les 18.00 hores, al Punt d'Informació Juvenil

URI:https://www.castellbisbal.cat/actualitat/agenda/tarda-saludable.html
CLASS:PUBLIC
END:VEVENT
END:VCALENDAR
