BEGIN:VCALENDAR
VERSION:2.0
CALSCALE:GREGORIAN
PRODID:-//Diputació de Barcelona//DibaCMS//EN
BEGIN:VEVENT
UID:14812
DTSTAMP:20260423T120043
DTSTART:20220526T180000
DTEND:20220526T200000
SUMMARY:Berenar saludable
LOCATION:Carrer Francesc Macià, 64 08755 Castellbisbal
METHOD:PUBLISH
X-WR-CALNAME:comunicacio@castellbisbal.cat
X-WR-TIMEZONE:Europe/Madrid
DESCRIPTION:A les 18.00 hores, al Punt d'Informació Juvenil

URI:https://www.castellbisbal.cat/actualitat/agenda/berenar-saludable.html
CLASS:PUBLIC
END:VEVENT
END:VCALENDAR
