BEGIN:VCALENDAR
VERSION:2.0
CALSCALE:GREGORIAN
PRODID:-//Diputació de Barcelona//DibaCMS//EN
BEGIN:VEVENT
UID:14816
DTSTAMP:20260424T050341
DTSTART:20220521T120000
DTEND:20220521T130000
SUMMARY:Conte-taller familiar: "El follet pastisser" i taller de cuina freda
LOCATION:Av. de Pau Casals, 16 08755 Castellbisbal
METHOD:PUBLISH
X-WR-CALNAME:comunicacio@castellbisbal.cat
X-WR-TIMEZONE:Europe/Madrid
DESCRIPTION:A les 12.00 hores, a la Biblioteca

URI:https://www.castellbisbal.cat/actualitat/agenda/biblioteca/conte-taller-familiar-el-follet-pastisser-i-taller-de-cuina-freda.html
CLASS:PUBLIC
END:VEVENT
END:VCALENDAR
