BEGIN:VCALENDAR
VERSION:2.0
CALSCALE:GREGORIAN
PRODID:-//Diputació de Barcelona//DibaCMS//EN
BEGIN:VEVENT
UID:14819
DTSTAMP:20260425T010137
DTSTART:20220514T120000
DTEND:20220514T120000
SUMMARY:Fira de la cervesa artesana
LOCATION:08755 Castellbisbal
METHOD:PUBLISH
X-WR-CALNAME:comunicacio@castellbisbal.cat
X-WR-TIMEZONE:Europe/Madrid
DESCRIPTION:
URI:https://www.castellbisbal.cat/actualitat/agenda/fira-de-la-cervesa-artesana.html
CLASS:PUBLIC
END:VEVENT
END:VCALENDAR
