BEGIN:VCALENDAR
VERSION:2.0
CALSCALE:GREGORIAN
PRODID:-//Diputació de Barcelona//DibaCMS//EN
BEGIN:VEVENT
UID:14823
DTSTAMP:20260423T231442
DTSTART:20220520T200000
DTEND:20220520T200000
SUMMARY:Planeta Ferrater
LOCATION:Av. de Pau Casals, 16 08755 Castellbisbal
METHOD:PUBLISH
X-WR-CALNAME:comunicacio@castellbisbal.cat
X-WR-TIMEZONE:Europe/Madrid
DESCRIPTION:ACTE AJORNAT. Ben aviat, s'informarà de la nova data

URI:https://www.castellbisbal.cat/actualitat/agenda/planeta-ferrater.html
CLASS:PUBLIC
END:VEVENT
END:VCALENDAR
