BEGIN:VCALENDAR
VERSION:2.0
CALSCALE:GREGORIAN
PRODID:-//Diputació de Barcelona//DibaCMS//EN
BEGIN:VEVENT
UID:14824
DTSTAMP:20260423T131456
DTSTART:20220508T190000
DTEND:20220508T190000
SUMMARY:Quasi Opera
LOCATION:
METHOD:PUBLISH
X-WR-CALNAME:comunicacio@castellbisbal.cat
X-WR-TIMEZONE:Europe/Madrid
DESCRIPTION:Al Casal Cultural i Recreatiu de Castellbisbal

URI:https://www.castellbisbal.cat/actualitat/agenda/quasi-opera.html
CLASS:PUBLIC
END:VEVENT
END:VCALENDAR
