BEGIN:VCALENDAR
VERSION:2.0
CALSCALE:GREGORIAN
PRODID:-//Diputació de Barcelona//DibaCMS//EN
BEGIN:VEVENT
UID:14826
DTSTAMP:20260423T223055
DTSTART:20220511T173000
DTEND:20220511T173000
SUMMARY:Escola de Mares i Pares: "Ens organitzem i utilitzem els dispositius per aprendre i jugar"
LOCATION:
METHOD:PUBLISH
X-WR-CALNAME:comunicacio@castellbisbal.cat
X-WR-TIMEZONE:Europe/Madrid
DESCRIPTION:Trobada virtual a través de la plataforma Meet

URI:https://www.castellbisbal.cat/actualitat/agenda/escola-de-mares-i-pares-ens-organitzem-i-utilitzem-els-dispositius-per-aprendre-i-jugar.html
CLASS:PUBLIC
END:VEVENT
END:VCALENDAR
