BEGIN:VCALENDAR
VERSION:2.0
CALSCALE:GREGORIAN
PRODID:-//Diputació de Barcelona//DibaCMS//EN
BEGIN:VEVENT
UID:14832
DTSTAMP:20260423T154810
DTSTART:20220512T180000
DTEND:20220512T180000
SUMMARY:Taller sobre ansietat, estrès i qualitat de vida
LOCATION:Av. de Pau Casals, 9 08755 Castellbisbal
METHOD:PUBLISH
X-WR-CALNAME:comunicacio@castellbisbal.cat
X-WR-TIMEZONE:Europe/Madrid
DESCRIPTION:A les 18.00 hores, a la sala d'actes de l'Ajuntament

URI:https://www.castellbisbal.cat/actualitat/agenda/taller-sobre-ansietat-estres-i-qualitat-de-vida.html
CLASS:PUBLIC
END:VEVENT
END:VCALENDAR
