BEGIN:VCALENDAR
VERSION:2.0
CALSCALE:GREGORIAN
PRODID:-//Diputació de Barcelona//DibaCMS//EN
BEGIN:VEVENT
UID:14835
DTSTAMP:20260424T044813
DTSTART:20220520T170000
DTEND:20220520T170000
SUMMARY:Els primers botànics. Taller d'il·lustració de plantes
LOCATION:Carrer Pi i Margall, 13 08755 Castellbisbal
METHOD:PUBLISH
X-WR-CALNAME:comunicacio@castellbisbal.cat
X-WR-TIMEZONE:Europe/Madrid
DESCRIPTION:A les 17.00 hores, davant del Museu de la Pagesia

URI:https://www.castellbisbal.cat/actualitat/agenda/els-primers-botanics-taller-dillustracio-de-plantes.html
CLASS:PUBLIC
END:VEVENT
END:VCALENDAR
