BEGIN:VCALENDAR
VERSION:2.0
CALSCALE:GREGORIAN
PRODID:-//Diputació de Barcelona//DibaCMS//EN
BEGIN:VEVENT
UID:14838
DTSTAMP:20260423T115729
DTSTART:20220521T103000
DTEND:20220521T103000
SUMMARY:Taller familiar: "Articula't Galderic! Fes el teu petit pagès"
LOCATION:Carrer Pi i Margall, 13 08755 Castellbisbal
METHOD:PUBLISH
X-WR-CALNAME:comunicacio@castellbisbal.cat
X-WR-TIMEZONE:Europe/Madrid
DESCRIPTION:A les 10.30 hores, davant del Museu de la Pagesia

URI:https://www.castellbisbal.cat/actualitat/agenda/taller-familiar-articulat-galderic-fes-el-teu-petit-pages.html
CLASS:PUBLIC
END:VEVENT
END:VCALENDAR
