BEGIN:VCALENDAR
VERSION:2.0
CALSCALE:GREGORIAN
PRODID:-//Diputació de Barcelona//DibaCMS//EN
BEGIN:VEVENT
UID:14839
DTSTAMP:20260424T050618
DTSTART:20220526T171500
DTEND:20220526T171500
SUMMARY:Xerrada virtual de l'Hora del Cafè: Comunicació i llenguatge
LOCATION:
METHOD:PUBLISH
X-WR-CALNAME:comunicacio@castellbisbal.cat
X-WR-TIMEZONE:Europe/Madrid
DESCRIPTION:A les 17.15 hores, de manera telemàtica

URI:https://www.castellbisbal.cat/actualitat/agenda/xerrada-virtual-de-lhora-del-cafe-comunicacio-i-llenguatge.html
CLASS:PUBLIC
END:VEVENT
END:VCALENDAR
