BEGIN:VCALENDAR
VERSION:2.0
CALSCALE:GREGORIAN
PRODID:-//Diputació de Barcelona//DibaCMS//EN
BEGIN:VEVENT
UID:14843
DTSTAMP:20260423T154010
DTSTART:20220506T000000
DTEND:20220619T000000
SUMMARY:NYS Polígon Arts: Trepat. Un cas d'estudi de les avantguardes fotogràfiques
LOCATION:Av. de Pau Casals, 16 08755 Castellbisbal
METHOD:PUBLISH
X-WR-CALNAME:comunicacio@castellbisbal.cat
X-WR-TIMEZONE:Europe/Madrid
DESCRIPTION:A la sala d'exposicions d'Els Costals

URI:https://www.castellbisbal.cat/actualitat/agenda/nys-poligon-arts-trepat-un-cas-destudi-de-les-avantguardes-fotografiques.html
CLASS:PUBLIC
END:VEVENT
END:VCALENDAR
