BEGIN:VCALENDAR
VERSION:2.0
CALSCALE:GREGORIAN
PRODID:-//Diputació de Barcelona//DibaCMS//EN
BEGIN:VEVENT
UID:14845
DTSTAMP:20260423T041352
DTSTART:20220514T120000
DTEND:20220514T120000
SUMMARY:NYS Polígon Arts: Tot ahir, tot avui
LOCATION:Acústica, 5 
METHOD:PUBLISH
X-WR-CALNAME:comunicacio@castellbisbal.cat
X-WR-TIMEZONE:Europe/Madrid
DESCRIPTION:A l'empresa Manxa Ferros

URI:https://www.castellbisbal.cat/actualitat/agenda/nys-poligon-arts-tot-ahir-tot-avui.html
CLASS:PUBLIC
END:VEVENT
END:VCALENDAR
