BEGIN:VCALENDAR
VERSION:2.0
CALSCALE:GREGORIAN
PRODID:-//Diputació de Barcelona//DibaCMS//EN
BEGIN:VEVENT
UID:14851
DTSTAMP:20260423T151722
DTSTART:20220521T110000
DTEND:20220521T110000
SUMMARY:NYS Polígon Arts: Taller tèxtil obert a tot el públic
LOCATION:Plaça de l'Església 08755 Castellbisbal
METHOD:PUBLISH
X-WR-CALNAME:comunicacio@castellbisbal.cat
X-WR-TIMEZONE:Europe/Madrid
DESCRIPTION:Al Pati de l'Esbarjo

URI:https://www.castellbisbal.cat/actualitat/agenda/nys-poligon-arts-taller-textil-obert-a-tot-el-public.html
CLASS:PUBLIC
END:VEVENT
END:VCALENDAR
