BEGIN:VCALENDAR
VERSION:2.0
CALSCALE:GREGORIAN
PRODID:-//Diputació de Barcelona//DibaCMS//EN
BEGIN:VEVENT
UID:14852
DTSTAMP:20260423T115829
DTSTART:20220521T180000
DTEND:20220521T180000
SUMMARY:NYS Polígon Arts: Ruta poètica
LOCATION:
METHOD:PUBLISH
X-WR-CALNAME:comunicacio@castellbisbal.cat
X-WR-TIMEZONE:Europe/Madrid
DESCRIPTION:Ruta itinerant, amb inici a Ca n'Amat

URI:https://www.castellbisbal.cat/actualitat/agenda/nys-poligon-arts-ruta-poetica.html
CLASS:PUBLIC
END:VEVENT
END:VCALENDAR
