BEGIN:VCALENDAR
VERSION:2.0
CALSCALE:GREGORIAN
PRODID:-//Diputació de Barcelona//DibaCMS//EN
BEGIN:VEVENT
UID:14853
DTSTAMP:20260424T205552
DTSTART:20220528T110000
DTEND:20220528T110000
SUMMARY:NYS Polígon Arts: (No) Mantingueu les distàncies
LOCATION:C. Ferralla, 38 ( Pol. Ind. Sant Vicenç ) 08755 Castellbisbal
METHOD:PUBLISH
X-WR-CALNAME:comunicacio@castellbisbal.cat
X-WR-TIMEZONE:Europe/Madrid
DESCRIPTION:A l'empresa FERCAM

URI:https://www.castellbisbal.cat/actualitat/agenda/nys-poligon-arts-no-mantingueu-les-distancies.html
CLASS:PUBLIC
END:VEVENT
END:VCALENDAR
