BEGIN:VCALENDAR
VERSION:2.0
CALSCALE:GREGORIAN
PRODID:-//Diputació de Barcelona//DibaCMS//EN
BEGIN:VEVENT
UID:14854
DTSTAMP:20260423T120113
DTSTART:20220528T120000
DTEND:20220528T120000
SUMMARY:NYS Polígon Arts: Set de Rumba
LOCATION:C. Ferralla, 38 ( Pol. Ind. Sant Vicenç ) 08755 Castellbisbal
METHOD:PUBLISH
X-WR-CALNAME:comunicacio@castellbisbal.cat
X-WR-TIMEZONE:Europe/Madrid
DESCRIPTION:A l'empresa FERCAM

URI:https://www.castellbisbal.cat/actualitat/agenda/nys-poligon-arts-set-de-rumba.html
CLASS:PUBLIC
END:VEVENT
END:VCALENDAR
