BEGIN:VCALENDAR
VERSION:2.0
CALSCALE:GREGORIAN
PRODID:-//Diputació de Barcelona//DibaCMS//EN
BEGIN:VEVENT
UID:14855
DTSTAMP:20260423T204302
DTSTART:20220603T100000
DTEND:20220603T100000
SUMMARY:NYS Polígon Arts: Acció de presentació i trobada amb agents industrials
LOCATION:C. Major, 22 Baixos 08755 Castellbisbal
METHOD:PUBLISH
X-WR-CALNAME:comunicacio@castellbisbal.cat
X-WR-TIMEZONE:Europe/Madrid
DESCRIPTION:Punt de trobada a AICSA i final del recorregut al Museu del Tractor

URI:https://www.castellbisbal.cat/actualitat/agenda/nys-poligon-arts-accio-de-presentacio-i-trobada-amb-agents-industrials.html
CLASS:PUBLIC
END:VEVENT
END:VCALENDAR
