BEGIN:VCALENDAR
VERSION:2.0
CALSCALE:GREGORIAN
PRODID:-//Diputació de Barcelona//DibaCMS//EN
BEGIN:VEVENT
UID:14856
DTSTAMP:20260423T231757
DTSTART:20220604T180000
DTEND:20220604T180000
SUMMARY:NYS Polígon Arts: Ex-Passo
LOCATION:C. Cinemàtica, 9 (Pol. Ind. Los Herreros) 08755 Castellbisbal
METHOD:PUBLISH
X-WR-CALNAME:comunicacio@castellbisbal.cat
X-WR-TIMEZONE:Europe/Madrid
DESCRIPTION:A l'empresa ESTEVA

URI:https://www.castellbisbal.cat/actualitat/agenda/nys-poligon-arts-ex-passo.html
CLASS:PUBLIC
END:VEVENT
END:VCALENDAR
