BEGIN:VCALENDAR
VERSION:2.0
CALSCALE:GREGORIAN
PRODID:-//Diputació de Barcelona//DibaCMS//EN
BEGIN:VEVENT
UID:14864
DTSTAMP:20260423T115643
DTSTART:20220514T000000
DTEND:20220605T000000
SUMMARY:NYS Polígon Arts: Brodat urbà
LOCATION:
METHOD:PUBLISH
X-WR-CALNAME:comunicacio@castellbisbal.cat
X-WR-TIMEZONE:Europe/Madrid
DESCRIPTION:Davant Ca n'Amat

URI:https://www.castellbisbal.cat/actualitat/agenda/nys-poligon-arts-brodat-urba.html
CLASS:PUBLIC
END:VEVENT
END:VCALENDAR
